BEGIN:VCALENDAR
VERSION:2.0
PRODID:spatie/icalendar-generator
DESCRIPTION:Évènements de DITEP de Guron
X-WR-CALDESC:Évènements de DITEP de Guron
REFRESH-INTERVAL;VALUE=DURATION:PT1440M
X-PUBLISHED-TTL:PT1440M
BEGIN:VTIMEZONE
TZID:Europe/Paris
BEGIN:DAYLIGHT
DTSTART:20230326T020000Z
TZOFFSETFROM:+0100
TZOFFSETTO:+0200
END:DAYLIGHT
BEGIN:STANDARD
DTSTART:20231029T030000Z
TZOFFSETFROM:+0200
TZOFFSETTO:+0100
END:STANDARD
END:VTIMEZONE
BEGIN:VTIMEZONE
TZID:UTC
BEGIN:STANDARD
DTSTART:20250725T084527Z
TZOFFSETFROM:+0000
TZOFFSETTO:+0000
END:STANDARD
END:VTIMEZONE
BEGIN:VEVENT
UID:7-3
DTSTAMP:20260421T084527Z
SUMMARY:Réunion exceptionnelle CSE
LOCATION:
ORGANIZER;CN=webguronadm:MAILTO:webmasterguron@gmail.com
DTSTART;TZID=Europe/Paris:20230908T103000
DTEND;TZID=Europe/Paris:20230908T113000
X-ALT-DESC;FMTTYPE=TEXT/HTML:
CATEGORIES:General
URL;VALUE=URI:https://itep86.org/mc-events/reunion-exceptionnelle-cse/
METHOD:PUBLISH
END:VEVENT
END:VCALENDAR